BEGIN:VCALENDAR
VERSION:2.0
PRODID:-//Kimberly Reed - ECPv6.15.12.2//NONSGML v1.0//EN
CALSCALE:GREGORIAN
METHOD:PUBLISH
X-WR-CALNAME:Kimberly Reed
X-ORIGINAL-URL:https://kimberlyreed.cc
X-WR-CALDESC:Events for Kimberly Reed
REFRESH-INTERVAL;VALUE=DURATION:PT1H
X-Robots-Tag:noindex
X-PUBLISHED-TTL:PT1H
BEGIN:VTIMEZONE
TZID:America/Los_Angeles
BEGIN:DAYLIGHT
TZOFFSETFROM:-0800
TZOFFSETTO:-0700
TZNAME:PDT
DTSTART:20240310T100000
END:DAYLIGHT
BEGIN:STANDARD
TZOFFSETFROM:-0700
TZOFFSETTO:-0800
TZNAME:PST
DTSTART:20241103T090000
END:STANDARD
BEGIN:DAYLIGHT
TZOFFSETFROM:-0800
TZOFFSETTO:-0700
TZNAME:PDT
DTSTART:20250309T100000
END:DAYLIGHT
BEGIN:STANDARD
TZOFFSETFROM:-0700
TZOFFSETTO:-0800
TZNAME:PST
DTSTART:20251102T090000
END:STANDARD
BEGIN:DAYLIGHT
TZOFFSETFROM:-0800
TZOFFSETTO:-0700
TZNAME:PDT
DTSTART:20260308T100000
END:DAYLIGHT
BEGIN:STANDARD
TZOFFSETFROM:-0700
TZOFFSETTO:-0800
TZNAME:PST
DTSTART:20261101T090000
END:STANDARD
END:VTIMEZONE
BEGIN:VEVENT
DTSTART;TZID=America/Los_Angeles:20250503T123000
DTEND;TZID=America/Los_Angeles:20250503T143000
DTSTAMP:20260420T071214
CREATED:20250430T054307Z
LAST-MODIFIED:20250430T054546Z
UID:154-1746275400-1746282600@kimberlyreed.cc
SUMMARY:Worldwide Labyrinth Day 2025
DESCRIPTION:Join me in celebrating the 17th Annual Worldwide Labyrinth Day on Saturday\, May 3rd\, 2025. This year it is hosted by St. Paul’s Episcopal Church of Ventura\, 3290 Loma Vista Road\, Ventura.   Come at 12:30 pm to hear a short presentation about labyrinths. Then we will “Walk as One at 1”\, becoming part of the global rolling wave of energy for world peace.
URL:https://kimberlyreed.cc/event/worldwide-labyrinth-day-2025/
ORGANIZER;CN="Kimberly Reed":MAILTO:kim@kimberlyreed.cc
END:VEVENT
BEGIN:VEVENT
DTSTART;TZID=America/Los_Angeles:20250408T184500
DTEND;TZID=America/Los_Angeles:20250408T194500
DTSTAMP:20260420T071214
CREATED:20250404T000846Z
LAST-MODIFIED:20250404T001412Z
UID:129-1744137900-1744141500@kimberlyreed.cc
SUMMARY:Lenten Labyrinth Walk
DESCRIPTION:Join me in a Lenten Labyrinth Walk on Tuesday\, April 8th\, at St. Paul’s Episcopal Church\, located at 3290 Loma Vista Road in Ventura\, California. This walk is part of their Lenten prayer series. \nAt 5:30 pm there is an evening prayer service in the chapel\, followed by a soup supper at 6:00 pm. At 6:45 I will give a short introduction to the labyrinth before we walk the outdoor labyrinth bathed by candlelight. You are welcome to come for any or all parts of the evening. The supper and class are held in the community room adjacent to the chapel. The evening will conclude with a short Compline service at 7:45. \nFor more information\, contact me.
URL:https://kimberlyreed.cc/event/lenten-labyrinth-walk/
LOCATION:St. Paul’s Episcopal Church\, 3290 Loma Vista Road\, Ventura\, CA\, 93003\, United States
ORGANIZER;CN="Kimberly Reed":MAILTO:kim@kimberlyreed.cc
END:VEVENT
END:VCALENDAR